BEGIN:VCALENDAR
VERSION:2.0
PRODID:-//Oahu Workforce Development Board - ECPv6.15.17.1//NONSGML v1.0//EN
CALSCALE:GREGORIAN
METHOD:PUBLISH
X-WR-CALNAME:Oahu Workforce Development Board
X-ORIGINAL-URL:https://oahuwdb.com
X-WR-CALDESC:Events for Oahu Workforce Development Board
REFRESH-INTERVAL;VALUE=DURATION:PT1H
X-Robots-Tag:noindex
X-PUBLISHED-TTL:PT1H
BEGIN:VTIMEZONE
TZID:Pacific/Honolulu
BEGIN:STANDARD
TZOFFSETFROM:-1000
TZOFFSETTO:-1000
TZNAME:HST
DTSTART:20230101T000000
END:STANDARD
END:VTIMEZONE
BEGIN:VEVENT
DTSTART;TZID=Pacific/Honolulu:20260122T080000
DTEND;TZID=Pacific/Honolulu:20260122T093000
DTSTAMP:20260423T232847
CREATED:20251217T184923Z
LAST-MODIFIED:20251217T184923Z
UID:2978-1769068800-1769074200@oahuwdb.com
SUMMARY:Full Board Meeting
DESCRIPTION:Oahu Workforce Development Full Board Meeting
URL:https://oahuwdb.com/event/full-board-meeting-2/
END:VEVENT
BEGIN:VEVENT
DTSTART;TZID=Pacific/Honolulu:20260115T120000
DTEND;TZID=Pacific/Honolulu:20260115T130000
DTSTAMP:20260423T232847
CREATED:20251217T220512Z
LAST-MODIFIED:20251217T220512Z
UID:3013-1768478400-1768482000@oahuwdb.com
SUMMARY:Executive Committee Meeting
DESCRIPTION:Oahu Workforce Development Board Executive Committee Meeting
URL:https://oahuwdb.com/event/executive-committee-meeting/
END:VEVENT
BEGIN:VEVENT
DTSTART;TZID=Pacific/Honolulu:20260115T110000
DTEND;TZID=Pacific/Honolulu:20260115T120000
DTSTAMP:20260423T232847
CREATED:20251217T220344Z
LAST-MODIFIED:20251217T220344Z
UID:3011-1768474800-1768478400@oahuwdb.com
SUMMARY:Finance Committee Meeting
DESCRIPTION:Oahu Workforce Development Board Finance Committee Meeting
URL:https://oahuwdb.com/event/finance-committee-meeting/
END:VEVENT
BEGIN:VEVENT
DTSTART;TZID=Pacific/Honolulu:20260113T113000
DTEND;TZID=Pacific/Honolulu:20260113T133000
DTSTAMP:20260423T232847
CREATED:20251226T185534Z
LAST-MODIFIED:20251226T185534Z
UID:3035-1768303800-1768311000@oahuwdb.com
SUMMARY:Special Projects Committee Meeting
DESCRIPTION:Oahu Workforce Development Board Special Projects Committee Meeting
URL:https://oahuwdb.com/event/special-projects-committee-meeting-5/
END:VEVENT
BEGIN:VEVENT
DTSTART;TZID=Pacific/Honolulu:20251201T130000
DTEND;TZID=Pacific/Honolulu:20251201T140000
DTSTAMP:20260423T232847
CREATED:20251113T184237Z
LAST-MODIFIED:20251113T184237Z
UID:2869-1764594000-1764597600@oahuwdb.com
SUMMARY:Employer Engagement Committee Meeting
DESCRIPTION:Oahu Workforce Development Board Employer Engagement Committee Meeting
URL:https://oahuwdb.com/event/employer-engagement-committee-meeting/
END:VEVENT
BEGIN:VEVENT
DTSTART;TZID=Pacific/Honolulu:20251120T130000
DTEND;TZID=Pacific/Honolulu:20251120T140000
DTSTAMP:20260423T232847
CREATED:20241220T193552Z
LAST-MODIFIED:20241220T193552Z
UID:1714-1763643600-1763647200@oahuwdb.com
SUMMARY:Sector Strategies and Career Pathways Committee
DESCRIPTION:Oahu Workforce Development Board Sector Strategies and Career Pathways Committee Meeting
URL:https://oahuwdb.com/event/sector-strategies-and-career-pathways-committee-4/
END:VEVENT
BEGIN:VEVENT
DTSTART;TZID=Pacific/Honolulu:20251118T130000
DTEND;TZID=Pacific/Honolulu:20251118T140000
DTSTAMP:20260423T232847
CREATED:20241220T210546Z
LAST-MODIFIED:20241220T210546Z
UID:1722-1763470800-1763474400@oahuwdb.com
SUMMARY:Performance Measures and Accountability Committee
DESCRIPTION:Oahu Workforce Development Board Performance Measures and Accountability Committee Meeting
URL:https://oahuwdb.com/event/performance-measures-and-accountability-committee-4/
END:VEVENT
BEGIN:VEVENT
DTSTART;TZID=Pacific/Honolulu:20251023T083000
DTEND;TZID=Pacific/Honolulu:20251023T100000
DTSTAMP:20260423T232847
CREATED:20241218T201351Z
LAST-MODIFIED:20241218T201351Z
UID:1690-1761208200-1761213600@oahuwdb.com
SUMMARY:Full Board
DESCRIPTION:Oahu Workforce Development Board Full Board Meeting
URL:https://oahuwdb.com/event/full-board-6/
END:VEVENT
BEGIN:VEVENT
DTSTART;TZID=Pacific/Honolulu:20251009T120000
DTEND;TZID=Pacific/Honolulu:20251009T130000
DTSTAMP:20260423T232847
CREATED:20241218T201913Z
LAST-MODIFIED:20241218T201913Z
UID:1696-1760011200-1760014800@oahuwdb.com
SUMMARY:Executive Committee
DESCRIPTION:Oahu Workforce Development Board Executive Committee Meeting
URL:https://oahuwdb.com/event/executive-committee-3/
END:VEVENT
BEGIN:VEVENT
DTSTART;TZID=Pacific/Honolulu:20251009T110000
DTEND;TZID=Pacific/Honolulu:20251009T120000
DTSTAMP:20260423T232847
CREATED:20241218T202419Z
LAST-MODIFIED:20241218T202419Z
UID:1702-1760007600-1760011200@oahuwdb.com
SUMMARY:Finance Committee
DESCRIPTION:Oahu Workforce Development Board Finance Committee Meeting
URL:https://oahuwdb.com/event/finance-committee-3/
END:VEVENT
BEGIN:VEVENT
DTSTART;TZID=Pacific/Honolulu:20250922T100000
DTEND;TZID=Pacific/Honolulu:20250922T120000
DTSTAMP:20260423T232847
CREATED:20250918T234331Z
LAST-MODIFIED:20250918T234331Z
UID:2726-1758535200-1758542400@oahuwdb.com
SUMMARY:Special Projects Committee
DESCRIPTION:Oahu Workforce Development Board Special Projects Committee
URL:https://oahuwdb.com/event/special-projects-committee/
END:VEVENT
BEGIN:VEVENT
DTSTART;TZID=Pacific/Honolulu:20250911T090000
DTEND;TZID=Pacific/Honolulu:20250911T120000
DTSTAMP:20260423T232847
CREATED:20250905T173551Z
LAST-MODIFIED:20250905T173551Z
UID:2689-1757581200-1757592000@oahuwdb.com
SUMMARY:Full Board
DESCRIPTION:Oahu Workforce Development Full Board Meeting
URL:https://oahuwdb.com/event/full-board-8/
END:VEVENT
BEGIN:VEVENT
DTSTART;TZID=Pacific/Honolulu:20250828T130000
DTEND;TZID=Pacific/Honolulu:20250828T140000
DTSTAMP:20260423T232847
CREATED:20241220T193130Z
LAST-MODIFIED:20241220T193130Z
UID:1712-1756386000-1756389600@oahuwdb.com
SUMMARY:Sector Strategies and Career Pathways Committee
DESCRIPTION:Oahu Workforce Development Board Sector Strategies and Career Pathways Committee Meeting
URL:https://oahuwdb.com/event/sector-strategies-and-career-pathways-committee-3/
END:VEVENT
BEGIN:VEVENT
DTSTART;TZID=Pacific/Honolulu:20250812T130000
DTEND;TZID=Pacific/Honolulu:20250812T140000
DTSTAMP:20260423T232847
CREATED:20241220T203854Z
LAST-MODIFIED:20241220T210415Z
UID:1720-1755003600-1755007200@oahuwdb.com
SUMMARY:Performance Measures and Accountability Committee
DESCRIPTION:Oahu Workforce Development Board Performance Measures and Accountability Committee Meeting
URL:https://oahuwdb.com/event/performance-measures-and-accountability-committee-3/
END:VEVENT
BEGIN:VEVENT
DTSTART;TZID=Pacific/Honolulu:20250724T083000
DTEND;TZID=Pacific/Honolulu:20250724T100000
DTSTAMP:20260423T232847
CREATED:20241218T201218Z
LAST-MODIFIED:20241218T201218Z
UID:1688-1753345800-1753351200@oahuwdb.com
SUMMARY:Full Board
DESCRIPTION:Oahu Workforce Development Board Full Board Meeting
URL:https://oahuwdb.com/event/full-board-5/
END:VEVENT
BEGIN:VEVENT
DTSTART;TZID=Pacific/Honolulu:20250710T120000
DTEND;TZID=Pacific/Honolulu:20250710T133000
DTSTAMP:20260423T232847
CREATED:20241218T201744Z
LAST-MODIFIED:20250703T203545Z
UID:1694-1752148800-1752154200@oahuwdb.com
SUMMARY:Executive Committee
DESCRIPTION:Oahu Workforce Development Board Executive Committee Meeting
URL:https://oahuwdb.com/event/executive-committee-2/
END:VEVENT
BEGIN:VEVENT
DTSTART;TZID=Pacific/Honolulu:20250617T133000
DTEND;TZID=Pacific/Honolulu:20250617T143000
DTSTAMP:20260423T232847
CREATED:20250606T000214Z
LAST-MODIFIED:20250606T000214Z
UID:2312-1750167000-1750170600@oahuwdb.com
SUMMARY:Executive Committee
DESCRIPTION:Oahu Workforce Development Board Executive Committee Meeting
URL:https://oahuwdb.com/event/executive-committee-5/
END:VEVENT
BEGIN:VEVENT
DTSTART;TZID=Pacific/Honolulu:20250602T083000
DTEND;TZID=Pacific/Honolulu:20250602T100000
DTSTAMP:20260423T232847
CREATED:20250513T194049Z
LAST-MODIFIED:20250513T194407Z
UID:2148-1748853000-1748858400@oahuwdb.com
SUMMARY:Full Board
DESCRIPTION:Oahu Workforce Development Board Full Board Meeting
URL:https://oahuwdb.com/event/full-board-7/
END:VEVENT
BEGIN:VEVENT
DTSTART;TZID=Pacific/Honolulu:20250529T130000
DTEND;TZID=Pacific/Honolulu:20250529T140000
DTSTAMP:20260423T232847
CREATED:20241220T192846Z
LAST-MODIFIED:20241220T192846Z
UID:1710-1748523600-1748527200@oahuwdb.com
SUMMARY:Sector Strategies and Career Pathways Committee
DESCRIPTION:Oahu Workforce Development Board Sector Strategies and Career Pathways Committee Meeting
URL:https://oahuwdb.com/event/sector-strategies-and-career-pathways-committee-2/
END:VEVENT
BEGIN:VEVENT
DTSTART;TZID=Pacific/Honolulu:20250527T120000
DTEND;TZID=Pacific/Honolulu:20250527T133000
DTSTAMP:20260423T232847
CREATED:20250513T194259Z
LAST-MODIFIED:20250513T214551Z
UID:2150-1748347200-1748352600@oahuwdb.com
SUMMARY:Finance Committee
DESCRIPTION:Oahu Workforce Development Board Finance Committee Meeting
URL:https://oahuwdb.com/event/finance-committee-4/
END:VEVENT
BEGIN:VEVENT
DTSTART;TZID=Pacific/Honolulu:20250513T130000
DTEND;TZID=Pacific/Honolulu:20250513T140000
DTSTAMP:20260423T232847
CREATED:20241220T200638Z
LAST-MODIFIED:20241220T200638Z
UID:1718-1747141200-1747144800@oahuwdb.com
SUMMARY:Performance Measures and Accountability Committee
DESCRIPTION:Oahu Workforce Development Board Performance Measures and Accountability Committee Meeting
URL:https://oahuwdb.com/event/performance-measures-and-accountability-committee-2/
END:VEVENT
BEGIN:VEVENT
DTSTART;TZID=Pacific/Honolulu:20250424T083000
DTEND;TZID=Pacific/Honolulu:20250424T100000
DTSTAMP:20260423T232847
CREATED:20241218T201017Z
LAST-MODIFIED:20241218T201017Z
UID:1686-1745483400-1745488800@oahuwdb.com
SUMMARY:Full Board
DESCRIPTION:Oahu Workforce Development Board Full Board Meeting
URL:https://oahuwdb.com/event/full-board-4/
END:VEVENT
BEGIN:VEVENT
DTSTART;TZID=Pacific/Honolulu:20250410T120000
DTEND;TZID=Pacific/Honolulu:20250410T130000
DTSTAMP:20260423T232847
CREATED:20241218T201605Z
LAST-MODIFIED:20241218T201605Z
UID:1692-1744286400-1744290000@oahuwdb.com
SUMMARY:Executive Committee
DESCRIPTION:Oahu Workforce Development Board Executive Committee Meeting
URL:https://oahuwdb.com/event/executive-committee/
END:VEVENT
BEGIN:VEVENT
DTSTART;TZID=Pacific/Honolulu:20250410T110000
DTEND;TZID=Pacific/Honolulu:20250410T120000
DTSTAMP:20260423T232847
CREATED:20241218T202057Z
LAST-MODIFIED:20241218T202057Z
UID:1698-1744282800-1744286400@oahuwdb.com
SUMMARY:Finance Committee
DESCRIPTION:Oahu Workforce Development Board Finance Committee Meeting
URL:https://oahuwdb.com/event/finance-committee/
END:VEVENT
BEGIN:VEVENT
DTSTART;TZID=Pacific/Honolulu:20250227T130000
DTEND;TZID=Pacific/Honolulu:20250227T140000
DTSTAMP:20260423T232847
CREATED:20241220T192728Z
LAST-MODIFIED:20241220T192728Z
UID:1708-1740661200-1740664800@oahuwdb.com
SUMMARY:Sector Strategies and Career Pathways Committee
DESCRIPTION:Oahu Workforce Development Board Sector Strategies and Career Pathways Committee Meeting
URL:https://oahuwdb.com/event/sector-strategies-and-career-pathways-committee/
END:VEVENT
BEGIN:VEVENT
DTSTART;TZID=Pacific/Honolulu:20250211T130000
DTEND;TZID=Pacific/Honolulu:20250211T140000
DTSTAMP:20260423T232847
CREATED:20241220T194807Z
LAST-MODIFIED:20241220T194807Z
UID:1716-1739278800-1739282400@oahuwdb.com
SUMMARY:Performance Measures and Accountability Committee
DESCRIPTION:Oahu Workforce Development Board Performance Measures and Accountability Committee Meeting
URL:https://oahuwdb.com/event/performance-measures-and-accountability-committee/
END:VEVENT
BEGIN:VEVENT
DTSTART;TZID=Pacific/Honolulu:20250122T130000
DTEND;TZID=Pacific/Honolulu:20250122T150000
DTSTAMP:20260423T232847
CREATED:20241210T012053Z
LAST-MODIFIED:20241210T012053Z
UID:1679-1737550800-1737558000@oahuwdb.com
SUMMARY:Full Board
DESCRIPTION:Oahu Workforce Development Board Full Board Meeting
URL:https://oahuwdb.com/event/full-board-3/
END:VEVENT
BEGIN:VEVENT
DTSTART;TZID=Pacific/Honolulu:20250109T140000
DTEND;TZID=Pacific/Honolulu:20250109T150000
DTSTAMP:20260423T232847
CREATED:20250109T171805Z
LAST-MODIFIED:20250109T171805Z
UID:1735-1736431200-1736434800@oahuwdb.com
SUMMARY:Executive Committee
DESCRIPTION:Oahu Workforce Development Board Executive Committee Meeting
URL:https://oahuwdb.com/event/executive-committee-4/
END:VEVENT
BEGIN:VEVENT
DTSTART;TZID=Pacific/Honolulu:20241112T130000
DTEND;TZID=Pacific/Honolulu:20241112T140000
DTSTAMP:20260423T232847
CREATED:20240604T204348Z
LAST-MODIFIED:20240604T204348Z
UID:1183-1731416400-1731420000@oahuwdb.com
SUMMARY:Performance Measures and Accountability
DESCRIPTION:Performance Measures and Accountability Committee Meeting
URL:https://oahuwdb.com/event/performance-measures-and-accountability-2/
END:VEVENT
BEGIN:VEVENT
DTSTART;TZID=Pacific/Honolulu:20241107T143000
DTEND;TZID=Pacific/Honolulu:20241107T153000
DTSTAMP:20260423T232847
CREATED:20240604T204135Z
LAST-MODIFIED:20241014T175408Z
UID:1179-1730989800-1730993400@oahuwdb.com
SUMMARY:Sector Strategies and Career Pathways
DESCRIPTION:Sector Strategies and Career Pathways Committee Meeting
URL:https://oahuwdb.com/event/sector-strategies-and-career-pathways-2/
END:VEVENT
END:VCALENDAR