BEGIN:VCALENDAR
VERSION:2.0
PRODID:-//Oahu Workforce Development Board - ECPv6.15.17.1//NONSGML v1.0//EN
CALSCALE:GREGORIAN
METHOD:PUBLISH
X-ORIGINAL-URL:https://oahuwdb.com
X-WR-CALDESC:Events for Oahu Workforce Development Board
REFRESH-INTERVAL;VALUE=DURATION:PT1H
X-Robots-Tag:noindex
X-PUBLISHED-TTL:PT1H
BEGIN:VTIMEZONE
TZID:Pacific/Honolulu
BEGIN:STANDARD
TZOFFSETFROM:-1000
TZOFFSETTO:-1000
TZNAME:HST
DTSTART:20250101T000000
END:STANDARD
END:VTIMEZONE
BEGIN:VEVENT
DTSTART;TZID=Pacific/Honolulu:20260505T103000
DTEND;TZID=Pacific/Honolulu:20260505T113000
DTSTAMP:20260423T195319
CREATED:20251217T211513Z
LAST-MODIFIED:20251217T211513Z
UID:2988-1777977000-1777980600@oahuwdb.com
SUMMARY:Sector Strategies and Career Pathways Committee Meeting
DESCRIPTION:Oahu Workforce Development Board Sector Strategies and Career Pathways Committee Meeting
URL:https://oahuwdb.com/event/sector-strategies-and-career-pathways-committee-meeting-2/
END:VEVENT
BEGIN:VEVENT
DTSTART;TZID=Pacific/Honolulu:20260512T130000
DTEND;TZID=Pacific/Honolulu:20260512T140000
DTSTAMP:20260423T195319
CREATED:20251217T211719Z
LAST-MODIFIED:20251217T211719Z
UID:2990-1778590800-1778594400@oahuwdb.com
SUMMARY:Performance Measures and Accountability Committee Meeting
DESCRIPTION:Oahu Workforce Development Board Performance Measures and Accountability Committee Meeting
URL:https://oahuwdb.com/event/performance-measures-and-accountability-committee-meeting-2/
END:VEVENT
BEGIN:VEVENT
DTSTART;TZID=Pacific/Honolulu:20260520T110000
DTEND;TZID=Pacific/Honolulu:20260520T120000
DTSTAMP:20260423T195319
CREATED:20260130T010441Z
LAST-MODIFIED:20260130T010441Z
UID:3082-1779274800-1779278400@oahuwdb.com
SUMMARY:Employer Engagement Committee Meeting
DESCRIPTION:Oahu Workforce Development Board Employer Engagement Committee Meeting
URL:https://oahuwdb.com/event/employer-engagement-committee-meeting-3/
END:VEVENT
BEGIN:VEVENT
DTSTART;TZID=Pacific/Honolulu:20260609T100000
DTEND;TZID=Pacific/Honolulu:20260609T110000
DTSTAMP:20260423T195319
CREATED:20251217T211841Z
LAST-MODIFIED:20251217T211841Z
UID:2992-1780999200-1781002800@oahuwdb.com
SUMMARY:Special Projects Committee Meeting
DESCRIPTION:Oahu Workforce Development Board Special Projects Committee Meeting
URL:https://oahuwdb.com/event/special-projects-committee-meeting-2/
END:VEVENT
BEGIN:VEVENT
DTSTART;TZID=Pacific/Honolulu:20260709T110000
DTEND;TZID=Pacific/Honolulu:20260709T120000
DTSTAMP:20260423T195319
CREATED:20251217T221151Z
LAST-MODIFIED:20251217T221151Z
UID:3020-1783594800-1783598400@oahuwdb.com
SUMMARY:Finance Committee Meeting
DESCRIPTION:Oahu Workforce Development Board Finance Committee Meeting
URL:https://oahuwdb.com/event/finance-committee-meeting-3/
END:VEVENT
BEGIN:VEVENT
DTSTART;TZID=Pacific/Honolulu:20260709T120000
DTEND;TZID=Pacific/Honolulu:20260709T130000
DTSTAMP:20260423T195319
CREATED:20251217T221353Z
LAST-MODIFIED:20251217T221353Z
UID:3022-1783598400-1783602000@oahuwdb.com
SUMMARY:Executive Committee Meeting
DESCRIPTION:Oahu Workforce Development Board Executive Committee Meeting
URL:https://oahuwdb.com/event/executive-committee-meeting-3/
END:VEVENT
BEGIN:VEVENT
DTSTART;TZID=Pacific/Honolulu:20260723T080000
DTEND;TZID=Pacific/Honolulu:20260723T093000
DTSTAMP:20260423T195319
CREATED:20251217T211950Z
LAST-MODIFIED:20251217T211950Z
UID:2994-1784793600-1784799000@oahuwdb.com
SUMMARY:Full Board Meeting
DESCRIPTION:Oahu Workforce Development Full Board Meeting
URL:https://oahuwdb.com/event/full-board-meeting-4/
END:VEVENT
BEGIN:VEVENT
DTSTART;TZID=Pacific/Honolulu:20260805T103000
DTEND;TZID=Pacific/Honolulu:20260805T113000
DTSTAMP:20260423T195319
CREATED:20251217T212125Z
LAST-MODIFIED:20251217T212125Z
UID:2996-1785925800-1785929400@oahuwdb.com
SUMMARY:Sector Strategies and Career Pathways Committee Meeting
DESCRIPTION:Oahu Workforce Development Board Sector Strategies and Career Pathways Committee Meeting
URL:https://oahuwdb.com/event/sector-strategies-and-career-pathways-committee-meeting-3/
END:VEVENT
BEGIN:VEVENT
DTSTART;TZID=Pacific/Honolulu:20260811T130000
DTEND;TZID=Pacific/Honolulu:20260811T140000
DTSTAMP:20260423T195319
CREATED:20251217T212249Z
LAST-MODIFIED:20251217T212249Z
UID:2998-1786453200-1786456800@oahuwdb.com
SUMMARY:Performance Measures and Accountability Committee Meeting
DESCRIPTION:Oahu Workforce Development Board Performance Measures and Accountability Committee Meeting
URL:https://oahuwdb.com/event/performance-measures-and-accountability-committee-meeting-3/
END:VEVENT
BEGIN:VEVENT
DTSTART;TZID=Pacific/Honolulu:20260812T110000
DTEND;TZID=Pacific/Honolulu:20260812T120000
DTSTAMP:20260423T195319
CREATED:20260130T010703Z
LAST-MODIFIED:20260130T010703Z
UID:3084-1786532400-1786536000@oahuwdb.com
SUMMARY:Employer Engagement Committee Meeting
DESCRIPTION:Oahu Workforce Development Board Employer Engagement Committee Meeting
URL:https://oahuwdb.com/event/employer-engagement-committee-meeting-4/
END:VEVENT
BEGIN:VEVENT
DTSTART;TZID=Pacific/Honolulu:20260915T100000
DTEND;TZID=Pacific/Honolulu:20260915T110000
DTSTAMP:20260423T195319
CREATED:20251217T212409Z
LAST-MODIFIED:20251217T212409Z
UID:3000-1789466400-1789470000@oahuwdb.com
SUMMARY:Special Projects Committee Meeting
DESCRIPTION:Oahu Workforce Development Board Special Projects Committee Meeting
URL:https://oahuwdb.com/event/special-projects-committee-meeting-3/
END:VEVENT
BEGIN:VEVENT
DTSTART;TZID=Pacific/Honolulu:20261008T110000
DTEND;TZID=Pacific/Honolulu:20261008T120000
DTSTAMP:20260423T195319
CREATED:20251217T221529Z
LAST-MODIFIED:20251217T221529Z
UID:3024-1791457200-1791460800@oahuwdb.com
SUMMARY:Finance Committee Meeting
DESCRIPTION:Oahu Workforce Development Board Finance Committee Meeting
URL:https://oahuwdb.com/event/finance-committee-meeting-4/
END:VEVENT
BEGIN:VEVENT
DTSTART;TZID=Pacific/Honolulu:20261008T120000
DTEND;TZID=Pacific/Honolulu:20261008T130000
DTSTAMP:20260423T195319
CREATED:20251217T221658Z
LAST-MODIFIED:20251217T221658Z
UID:3026-1791460800-1791464400@oahuwdb.com
SUMMARY:Executive Committee Meeting
DESCRIPTION:Oahu Workforce Development Board Executive Committee Meeting
URL:https://oahuwdb.com/event/executive-committee-meeting-4/
END:VEVENT
BEGIN:VEVENT
DTSTART;TZID=Pacific/Honolulu:20261021T110000
DTEND;TZID=Pacific/Honolulu:20261021T120000
DTSTAMP:20260423T195319
CREATED:20260130T010828Z
LAST-MODIFIED:20260130T010828Z
UID:3086-1792580400-1792584000@oahuwdb.com
SUMMARY:Employer Engagement Committee Meeting
DESCRIPTION:Oahu Workforce Development Board Employer Engagement Committee Meeting
URL:https://oahuwdb.com/event/employer-engagement-committee-meeting-5/
END:VEVENT
BEGIN:VEVENT
DTSTART;TZID=Pacific/Honolulu:20261022T080000
DTEND;TZID=Pacific/Honolulu:20261022T093000
DTSTAMP:20260423T195319
CREATED:20251217T212519Z
LAST-MODIFIED:20251217T212519Z
UID:3002-1792656000-1792661400@oahuwdb.com
SUMMARY:Full Board Meeting
DESCRIPTION:Oahu Workforce Development Full Board Meeting
URL:https://oahuwdb.com/event/full-board-meeting-5/
END:VEVENT
BEGIN:VEVENT
DTSTART;TZID=Pacific/Honolulu:20261105T103000
DTEND;TZID=Pacific/Honolulu:20261105T113000
DTSTAMP:20260423T195319
CREATED:20251217T212710Z
LAST-MODIFIED:20251217T212710Z
UID:3004-1793874600-1793878200@oahuwdb.com
SUMMARY:Sector Strategies and Career Pathways Committee Meeting
DESCRIPTION:Oahu Workforce Development Board Sector Strategies and Career Pathways Committee Meeting
URL:https://oahuwdb.com/event/sector-strategies-and-career-pathways-committee-meeting-4/
END:VEVENT
BEGIN:VEVENT
DTSTART;TZID=Pacific/Honolulu:20261110T130000
DTEND;TZID=Pacific/Honolulu:20261110T140000
DTSTAMP:20260423T195319
CREATED:20251217T212855Z
LAST-MODIFIED:20251217T212855Z
UID:3006-1794315600-1794319200@oahuwdb.com
SUMMARY:Performance Measures and Accountability Committee Meeting
DESCRIPTION:Oahu Workforce Development Board Performance Measures and Accountability Committee Meeting
URL:https://oahuwdb.com/event/performance-measures-and-accountability-committee-meeting-4/
END:VEVENT
BEGIN:VEVENT
DTSTART;TZID=Pacific/Honolulu:20261215T100000
DTEND;TZID=Pacific/Honolulu:20261215T110000
DTSTAMP:20260423T195319
CREATED:20251217T213018Z
LAST-MODIFIED:20251217T213018Z
UID:3008-1797328800-1797332400@oahuwdb.com
SUMMARY:Special Projects Committee Meeting
DESCRIPTION:Oahu Workforce Development Board Special Projects Committee Meeting
URL:https://oahuwdb.com/event/special-projects-committee-meeting-4/
END:VEVENT
END:VCALENDAR