BEGIN:VCALENDAR
VERSION:2.0
PRODID:-//Oahu Workforce Development Board - ECPv6.15.17.1//NONSGML v1.0//EN
CALSCALE:GREGORIAN
METHOD:PUBLISH
X-WR-CALNAME:Oahu Workforce Development Board
X-ORIGINAL-URL:https://oahuwdb.com
X-WR-CALDESC:Events for Oahu Workforce Development Board
REFRESH-INTERVAL;VALUE=DURATION:PT1H
X-Robots-Tag:noindex
X-PUBLISHED-TTL:PT1H
BEGIN:VTIMEZONE
TZID:Pacific/Honolulu
BEGIN:STANDARD
TZOFFSETFROM:-1000
TZOFFSETTO:-1000
TZNAME:HST
DTSTART:20230101T000000
END:STANDARD
END:VTIMEZONE
BEGIN:VTIMEZONE
TZID:UTC
BEGIN:STANDARD
TZOFFSETFROM:+0000
TZOFFSETTO:+0000
TZNAME:UTC
DTSTART:20230101T000000
END:STANDARD
END:VTIMEZONE
BEGIN:VEVENT
DTSTART;TZID=Pacific/Honolulu:20240725T143000
DTEND;TZID=Pacific/Honolulu:20240725T153000
DTSTAMP:20260425T142326
CREATED:20240604T194656Z
LAST-MODIFIED:20240604T194656Z
UID:1167-1721917800-1721921400@oahuwdb.com
SUMMARY:Sector Strategies and Career Pathways
DESCRIPTION:Sector Strategies and Career Pathways Committee Meeting
URL:https://oahuwdb.com/event/sector-strategies-and-career-pathways/
END:VEVENT
BEGIN:VEVENT
DTSTART;TZID=Pacific/Honolulu:20240718T083000
DTEND;TZID=Pacific/Honolulu:20240718T103000
DTSTAMP:20260425T142326
CREATED:20240604T194228Z
LAST-MODIFIED:20240604T204553Z
UID:1165-1721291400-1721298600@oahuwdb.com
SUMMARY:Full Board
DESCRIPTION:Oahu Workforce Development Board Full Board Meeting
URL:https://oahuwdb.com/event/full-board-meeting/
END:VEVENT
BEGIN:VEVENT
DTSTART;TZID=Pacific/Honolulu:20240702T130000
DTEND;TZID=Pacific/Honolulu:20240702T140000
DTSTAMP:20260425T142326
CREATED:20240604T193820Z
LAST-MODIFIED:20240604T204534Z
UID:1162-1719925200-1719928800@oahuwdb.com
SUMMARY:Executive
DESCRIPTION:Executive Committee Meeting
URL:https://oahuwdb.com/event/1162/
END:VEVENT
BEGIN:VEVENT
DTSTART;TZID=Pacific/Honolulu:20240630T133000
DTEND;TZID=Pacific/Honolulu:20240630T143000
DTSTAMP:20260425T142326
CREATED:20240628T233524Z
LAST-MODIFIED:20240628T233630Z
UID:1224-1719754200-1719757800@oahuwdb.com
SUMMARY:Full Board
DESCRIPTION:Oahu Workforce Development Board Full Board Meeting
URL:https://oahuwdb.com/event/full-board-2/
END:VEVENT
BEGIN:VEVENT
DTSTART;TZID=Pacific/Honolulu:20240628T113000
DTEND;TZID=Pacific/Honolulu:20240628T130000
DTSTAMP:20260425T142326
CREATED:20240618T173603Z
LAST-MODIFIED:20240618T173603Z
UID:1210-1719574200-1719579600@oahuwdb.com
SUMMARY:Finance
DESCRIPTION:Finance Committee Meeting
URL:https://oahuwdb.com/event/finance-3/
END:VEVENT
BEGIN:VEVENT
DTSTART;TZID=UTC:20240105T130000
DTEND;TZID=UTC:20240105T140000
DTSTAMP:20260425T142326
CREATED:20240104T002255Z
LAST-MODIFIED:20240104T011259Z
UID:988-1704459600-1704463200@oahuwdb.com
SUMMARY:Executive Committee
DESCRIPTION:
URL:https://oahuwdb.com/event/test/
END:VEVENT
END:VCALENDAR