BEGIN:VCALENDAR
VERSION:2.0
PRODID:-//Oahu Workforce Development Board - ECPv6.15.17.1//NONSGML v1.0//EN
CALSCALE:GREGORIAN
METHOD:PUBLISH
X-ORIGINAL-URL:https://oahuwdb.com
X-WR-CALDESC:Events for Oahu Workforce Development Board
REFRESH-INTERVAL;VALUE=DURATION:PT1H
X-Robots-Tag:noindex
X-PUBLISHED-TTL:PT1H
BEGIN:VTIMEZONE
TZID:Pacific/Honolulu
BEGIN:STANDARD
TZOFFSETFROM:-1000
TZOFFSETTO:-1000
TZNAME:HST
DTSTART:20230101T000000
END:STANDARD
END:VTIMEZONE
BEGIN:VEVENT
DTSTART;TZID=Pacific/Honolulu:20241001T130000
DTEND;TZID=Pacific/Honolulu:20241001T140000
DTSTAMP:20260425T000306
CREATED:20240604T203657Z
LAST-MODIFIED:20240604T203657Z
UID:1175-1727787600-1727791200@oahuwdb.com
SUMMARY:Executive
DESCRIPTION:Executive Committee Meeting
URL:https://oahuwdb.com/event/executive/
END:VEVENT
BEGIN:VEVENT
DTSTART;TZID=Pacific/Honolulu:20241024T083000
DTEND;TZID=Pacific/Honolulu:20241024T103000
DTSTAMP:20260425T000306
CREATED:20240604T204016Z
LAST-MODIFIED:20240604T204016Z
UID:1177-1729758600-1729765800@oahuwdb.com
SUMMARY:Full Board
DESCRIPTION:Oahu Workforce Development Board Full Board Meeting
URL:https://oahuwdb.com/event/full-board/
END:VEVENT
END:VCALENDAR