BEGIN:VCALENDAR
VERSION:2.0
PRODID:-//Oahu Workforce Development Board - ECPv6.15.17.1//NONSGML v1.0//EN
CALSCALE:GREGORIAN
METHOD:PUBLISH
X-ORIGINAL-URL:https://oahuwdb.com
X-WR-CALDESC:Events for Oahu Workforce Development Board
REFRESH-INTERVAL;VALUE=DURATION:PT1H
X-Robots-Tag:noindex
X-PUBLISHED-TTL:PT1H
BEGIN:VTIMEZONE
TZID:Pacific/Honolulu
BEGIN:STANDARD
TZOFFSETFROM:-1000
TZOFFSETTO:-1000
TZNAME:HST
DTSTART:20250101T000000
END:STANDARD
END:VTIMEZONE
BEGIN:VEVENT
DTSTART;TZID=Pacific/Honolulu:20260205T103000
DTEND;TZID=Pacific/Honolulu:20260205T113000
DTSTAMP:20260423T195048
CREATED:20251217T185143Z
LAST-MODIFIED:20251217T185143Z
UID:2980-1770287400-1770291000@oahuwdb.com
SUMMARY:Sector Strategies and Career Pathways Committee Meeting
DESCRIPTION:Oahu Workforce Development Board Sector Strategies and Career Pathways Committee Meeting
URL:https://oahuwdb.com/event/sector-strategies-and-career-pathways-committee-meeting/
END:VEVENT
BEGIN:VEVENT
DTSTART;TZID=Pacific/Honolulu:20260210T130000
DTEND;TZID=Pacific/Honolulu:20260210T140000
DTSTAMP:20260423T195048
CREATED:20251217T190542Z
LAST-MODIFIED:20251217T190542Z
UID:2982-1770728400-1770732000@oahuwdb.com
SUMMARY:Performance Measures and Accountability Committee Meeting
DESCRIPTION:Oahu Workforce Development Board Performance Measures and Accountability Committee Meeting
URL:https://oahuwdb.com/event/performance-measures-and-accountability-committee-meeting/
END:VEVENT
BEGIN:VEVENT
DTSTART;TZID=Pacific/Honolulu:20260212T093000
DTEND;TZID=Pacific/Honolulu:20260212T103000
DTSTAMP:20260423T195048
CREATED:20260130T010238Z
LAST-MODIFIED:20260130T010238Z
UID:3080-1770888600-1770892200@oahuwdb.com
SUMMARY:Employer Engagement Committee Meeting
DESCRIPTION:Oahu Workforce Development Board Employer Engagement Committee Meeting
URL:https://oahuwdb.com/event/employer-engagement-committee-meeting-2/
END:VEVENT
END:VCALENDAR