BEGIN:VCALENDAR
VERSION:2.0
PRODID:-//Oahu Workforce Development Board - ECPv6.15.17.1//NONSGML v1.0//EN
CALSCALE:GREGORIAN
METHOD:PUBLISH
X-WR-CALNAME:Oahu Workforce Development Board
X-ORIGINAL-URL:https://oahuwdb.com
X-WR-CALDESC:Events for Oahu Workforce Development Board
REFRESH-INTERVAL;VALUE=DURATION:PT1H
X-Robots-Tag:noindex
X-PUBLISHED-TTL:PT1H
BEGIN:VTIMEZONE
TZID:Pacific/Honolulu
BEGIN:STANDARD
TZOFFSETFROM:-1000
TZOFFSETTO:-1000
TZNAME:HST
DTSTART:20250101T000000
END:STANDARD
END:VTIMEZONE
BEGIN:VEVENT
DTSTART;TZID=Pacific/Honolulu:20260505T103000
DTEND;TZID=Pacific/Honolulu:20260505T113000
DTSTAMP:20260423T191027
CREATED:20251217T211513Z
LAST-MODIFIED:20251217T211513Z
UID:2988-1777977000-1777980600@oahuwdb.com
SUMMARY:Sector Strategies and Career Pathways Committee Meeting
DESCRIPTION:Oahu Workforce Development Board Sector Strategies and Career Pathways Committee Meeting
URL:https://oahuwdb.com/event/sector-strategies-and-career-pathways-committee-meeting-2/
END:VEVENT
BEGIN:VEVENT
DTSTART;TZID=Pacific/Honolulu:20260512T130000
DTEND;TZID=Pacific/Honolulu:20260512T140000
DTSTAMP:20260423T191027
CREATED:20251217T211719Z
LAST-MODIFIED:20251217T211719Z
UID:2990-1778590800-1778594400@oahuwdb.com
SUMMARY:Performance Measures and Accountability Committee Meeting
DESCRIPTION:Oahu Workforce Development Board Performance Measures and Accountability Committee Meeting
URL:https://oahuwdb.com/event/performance-measures-and-accountability-committee-meeting-2/
END:VEVENT
BEGIN:VEVENT
DTSTART;TZID=Pacific/Honolulu:20260520T110000
DTEND;TZID=Pacific/Honolulu:20260520T120000
DTSTAMP:20260423T191027
CREATED:20260130T010441Z
LAST-MODIFIED:20260130T010441Z
UID:3082-1779274800-1779278400@oahuwdb.com
SUMMARY:Employer Engagement Committee Meeting
DESCRIPTION:Oahu Workforce Development Board Employer Engagement Committee Meeting
URL:https://oahuwdb.com/event/employer-engagement-committee-meeting-3/
END:VEVENT
END:VCALENDAR