BEGIN:VCALENDAR
VERSION:2.0
PRODID:-//Oahu Workforce Development Board - ECPv6.15.17.1//NONSGML v1.0//EN
CALSCALE:GREGORIAN
METHOD:PUBLISH
X-ORIGINAL-URL:https://oahuwdb.com
X-WR-CALDESC:Events for Oahu Workforce Development Board
REFRESH-INTERVAL;VALUE=DURATION:PT1H
X-Robots-Tag:noindex
X-PUBLISHED-TTL:PT1H
BEGIN:VTIMEZONE
TZID:Pacific/Honolulu
BEGIN:STANDARD
TZOFFSETFROM:-1000
TZOFFSETTO:-1000
TZNAME:HST
DTSTART:20250101T000000
END:STANDARD
END:VTIMEZONE
BEGIN:VEVENT
DTSTART;TZID=Pacific/Honolulu:20260805T103000
DTEND;TZID=Pacific/Honolulu:20260805T113000
DTSTAMP:20260423T230831
CREATED:20251217T212125Z
LAST-MODIFIED:20251217T212125Z
UID:2996-1785925800-1785929400@oahuwdb.com
SUMMARY:Sector Strategies and Career Pathways Committee Meeting
DESCRIPTION:Oahu Workforce Development Board Sector Strategies and Career Pathways Committee Meeting
URL:https://oahuwdb.com/event/sector-strategies-and-career-pathways-committee-meeting-3/
END:VEVENT
BEGIN:VEVENT
DTSTART;TZID=Pacific/Honolulu:20260811T130000
DTEND;TZID=Pacific/Honolulu:20260811T140000
DTSTAMP:20260423T230831
CREATED:20251217T212249Z
LAST-MODIFIED:20251217T212249Z
UID:2998-1786453200-1786456800@oahuwdb.com
SUMMARY:Performance Measures and Accountability Committee Meeting
DESCRIPTION:Oahu Workforce Development Board Performance Measures and Accountability Committee Meeting
URL:https://oahuwdb.com/event/performance-measures-and-accountability-committee-meeting-3/
END:VEVENT
BEGIN:VEVENT
DTSTART;TZID=Pacific/Honolulu:20260812T110000
DTEND;TZID=Pacific/Honolulu:20260812T120000
DTSTAMP:20260423T230831
CREATED:20260130T010703Z
LAST-MODIFIED:20260130T010703Z
UID:3084-1786532400-1786536000@oahuwdb.com
SUMMARY:Employer Engagement Committee Meeting
DESCRIPTION:Oahu Workforce Development Board Employer Engagement Committee Meeting
URL:https://oahuwdb.com/event/employer-engagement-committee-meeting-4/
END:VEVENT
END:VCALENDAR