BEGIN:VCALENDAR
VERSION:2.0
PRODID:-//Oahu Workforce Development Board - ECPv6.15.17.1//NONSGML v1.0//EN
CALSCALE:GREGORIAN
METHOD:PUBLISH
X-ORIGINAL-URL:https://oahuwdb.com
X-WR-CALDESC:Events for Oahu Workforce Development Board
REFRESH-INTERVAL;VALUE=DURATION:PT1H
X-Robots-Tag:noindex
X-PUBLISHED-TTL:PT1H
BEGIN:VTIMEZONE
TZID:Pacific/Honolulu
BEGIN:STANDARD
TZOFFSETFROM:-1000
TZOFFSETTO:-1000
TZNAME:HST
DTSTART:20250101T000000
END:STANDARD
END:VTIMEZONE
BEGIN:VEVENT
DTSTART;TZID=Pacific/Honolulu:20260423T080000
DTEND;TZID=Pacific/Honolulu:20260423T093000
DTSTAMP:20260423T162256
CREATED:20251217T211303Z
LAST-MODIFIED:20251217T211303Z
UID:2986-1776931200-1776936600@oahuwdb.com
SUMMARY:Full Board Meeting
DESCRIPTION:Oahu Workforce Development Full Board Meeting
URL:https://oahuwdb.com/event/full-board-meeting-3/
END:VEVENT
END:VCALENDAR